
BEGIN:VCALENDAR
VERSION:2.0
PRODID:-//LIT Cigar Lounge - ECPv6.7.1//NONSGML v1.0//EN
CALSCALE:GREGORIAN
METHOD:PUBLISH
X-WR-CALNAME:LIT Cigar Lounge
X-ORIGINAL-URL:https://litstl.com
X-WR-CALDESC:Events for LIT Cigar Lounge
REFRESH-INTERVAL;VALUE=DURATION:PT1H
X-Robots-Tag:noindex
X-PUBLISHED-TTL:PT1H
BEGIN:VTIMEZONE
TZID:America/Chicago
BEGIN:DAYLIGHT
TZOFFSETFROM:-0600
TZOFFSETTO:-0500
TZNAME:CDT
DTSTART:20260308T080000
END:DAYLIGHT
BEGIN:STANDARD
TZOFFSETFROM:-0500
TZOFFSETTO:-0600
TZNAME:CST
DTSTART:20261101T070000
END:STANDARD
END:VTIMEZONE
BEGIN:VEVENT
DTSTART;TZID=America/Chicago:20260306T200000
DTEND;TZID=America/Chicago:20260306T230000
DTSTAMP:20260421T044013
CREATED:20260203T192536Z
LAST-MODIFIED:20260203T192536Z
UID:41008-1772827200-1772838000@litstl.com
SUMMARY:Live Music with Dakota Pagan
DESCRIPTION:Kick off your Friday night the right way  Set the vibe with premium cigars\, live music\, and an unbeatable crowd. Dakota Pagan will be bringing the sound live from 8-11PM\, so come relax\, light up\, and enjoy an awesome night!
URL:https://litstl.com/event/live-music-with-dakota-pagan-7/
LOCATION:LIT Cigar Lounge\, 17049 N Outer 40 Rd\, Chesterfield\, MO\, 63005\, United States
CATEGORIES:Live Music
ATTACH;FMTTYPE=image/png:https://litstl.com/wp-content/uploads/2026/02/17.png
END:VEVENT
BEGIN:VEVENT
DTSTART;TZID=America/Chicago:20260311T180000
DTEND;TZID=America/Chicago:20260311T210000
DTSTAMP:20260421T044013
CREATED:20260223T192144Z
LAST-MODIFIED:20260223T192144Z
UID:44871-1773252000-1773262800@litstl.com
SUMMARY:Long Ash Contest
DESCRIPTION:Whose joining in on the competition? 👀💨 We’ll be hosting the Long Ash Contest on March 11th from 6-9PM\, open to the public. All you have to do is purchase a cigar to get in on the action. We’ll be smoking the Aganorsa Supreme Leaf Toro 109. \nWhat’s the grand prize?! A whole box of em’. 😆 \nWe hope to see you there!
URL:https://litstl.com/event/long-ash-contest/
LOCATION:LIT Cigar Lounge\, 17049 N Outer 40 Rd\, Chesterfield\, MO\, 63005\, United States
CATEGORIES:Special Event
ATTACH;FMTTYPE=image/png:https://litstl.com/wp-content/uploads/2026/02/FBWebsite-Templates-4.png
END:VEVENT
BEGIN:VEVENT
DTSTART;TZID=America/Chicago:20260313T200000
DTEND;TZID=America/Chicago:20260313T230000
DTSTAMP:20260421T044013
CREATED:20260203T192754Z
LAST-MODIFIED:20260203T192754Z
UID:41011-1773432000-1773442800@litstl.com
SUMMARY:Live Music with The Bald Eagles
DESCRIPTION:Kick off your Friday night the right way  Set the vibe with premium cigars\, live music\, and an unbeatable crowd. The Bald Eagles will be bringing the sound live from 8-11PM\, so come relax\, light up\, and enjoy an awesome night!
URL:https://litstl.com/event/live-music-with-the-bald-eagles-5/
LOCATION:LIT Cigar Lounge\, 17049 N Outer 40 Rd\, Chesterfield\, MO\, 63005\, United States
CATEGORIES:Live Music
ATTACH;FMTTYPE=image/png:https://litstl.com/wp-content/uploads/2026/02/18.png
END:VEVENT
END:VCALENDAR